BEGIN:VCALENDAR
VERSION:2.0
PRODID:-//eventon.com NONSGML v1.0//EN
CALSCALE:GREGORIAN
METHOD:PUBLISH
BEGIN:VEVENT
UID:69e5f682c8344
DTSTAMP:20260420T094850Z
DTSTART:20241114T163000Z
DTEND:20241114T180000Z
LOCATION:
SUMMARY:Taller práctico: Inteligencia Artificial para Pymes y Autónomos en Güéjar Sierra.
DESCRIPTION:2ª taller práctico del programa Inteligencia Artificial para 
 Pymes y Autónomos Este segundo taller se celebrará en el municipio de Gü
 éjar Sierra\,  donde\,  en colaboración con la&nbsp;Fundación AI Granada
  Research & Innovation\, &nbsp;&nbsp;se desarrollará la segunda jornada de
  este programa cuyo objetivo es apoyar a las pymes y autónomos de la[..]\n
 https://granadaempresas.es/events/taller-practico-inteligencia-artificial-p
 ara-pymes-y-autonomos-en-guejar-sierra/
URL:https://granadaempresas.es/events/taller-practico-inteligencia-artificial-para-pymes-y-autonomos-en-guejar-sierra/
END:VEVENT
END:VCALENDAR