BEGIN:VCALENDAR
VERSION:2.0
PRODID:-//eventon.com NONSGML v1.0//EN
CALSCALE:GREGORIAN
METHOD:PUBLISH
BEGIN:VEVENT
UID:69e5f67d79a21
DTSTAMP:20260420T094845Z
DTSTART:20220316T110000Z
DTEND:20221230T230000Z
LOCATION:
SUMMARY:Programa Mentoring 2022
DESCRIPTION:Este programa está dirigido a personas con formación previa e
 n emprendimiento\,  que tengan un proyecto en las primeras etapas y necesit
 en la guía de mentores para avanzar hacia la puesta en marcha efectiva del
  proyecto. Podrán participar en el programa proyectos emprendedores donde 
 participen estudiantes\,  profesores\,  miembros del PAS o egresados[..]\n
 https://granadaempresas.es/events/programa-mentoring-2022/
URL:https://granadaempresas.es/events/programa-mentoring-2022/
END:VEVENT
END:VCALENDAR